BEGIN:VCALENDAR
VERSION:2.0
PRODID:-//wp-events-plugin.com//7.2.3.1//EN
TZID:Europe/Brussels
X-WR-TIMEZONE:Europe/Brussels
BEGIN:VEVENT
UID:2@melissa-accompagnanteparentale.be
DTSTART;TZID=Europe/Paris:20230217T000000
DTEND;TZID=Europe/Paris:20230217T000000
DTSTAMP:20250613T094524Z
URL:https://melissa-accompagnanteparentale.be/events/une-petite-presentati
 on/
SUMMARY:Une petite présentation
DESCRIPTION:Par où commencer?\nPar le plus important dans ma vie et ce qui
  fait le plus lien avec l’accompagnement parental\, c’est le fait d’
 être la maman d’un petit garçon de 4 ans qui a bouleversé ma vie et m
 ’a fait prendre conscience de beaucoup de choses! Je vous en reparle plu
 s loin…\n\nJe suis aussi éducatrice d’internat\, un métier passionna
 nt qui me pousse à me remettre sans cesse en questions et à être à l
 ’écoute des autres. Au départ\, ma vocation était d’être institutr
 ice primaire\, c’est ma formation initiale mais j’ai assez vite chang
 é de trajectoire.\n\nPourquoi l’accompagnement parental?\nLa parentalit
 é m’a toujours intéressée car elle est liée à l’Education et à l
 ’enseignement (en tout cas pour moi).\n\nJ’avais beaucoup d’idées s
 ur comment être une “bonne” maman.\nEt puis mon fils est arrivé dans
  nos vies\, c’est devenu concret!\nEnceinte\, je ressentais énormément
  de choses\, j’imaginais ma vie de maman\, je discutais avec mon compagn
 on et mon entourage de l’éducation des enfants\, etc.\nJusque-là\, tou
 t va bien…\nEnfin\, il est arrivé!\nEt là\, tout a pris sens\, ma visi
 on de l’éducation\, il fallait que je la mette en place.\nC’était m
 ême plus que ça\, j’agissais de manière instinctive !\n\nMAIS cet ins
 tinct se heurtait à la vision de mon entourage\, de la société…\n“N
 e le garde pas tout le temps dans tes bras\, il va être dépendant “\n
 “Laisse le pleurer\, il va s’habituer à ce que tu viennes tout le tem
 ps”\nEt j’en passe…\n\nJe dis tout cela\, sans aucune critique mais 
 j’étais tiraillée entre mon ressenti viscéral et la pression culturel
 le…\n\nMA solution?\nSuivre une formation en coaching parental !\nEt fin
 alement tout ce que je ressentais\, c’était OK !\nQuel soulagement !\n\
 nMes ressentis abstraits trouvaient une explication concrète appuyée pas
  les neurosciences affectives et sociales !\nAprès avoir suivi cette form
 ation\, j’ai ressenti le besoin de transmettre tout cela aux parents qui
  en auraient besoin.\nPrise dans le tourbillon des formations\, j’ai eu 
 envie d’approfondir d’autres thèmes liés à la parentalité.\nEt voi
 là !\n\nL’accompagnement se porte :\n– Sur ce dont VOUS avez besoin e
 t vos difficultés\n– Le sommeil\n– Les conflits entre enfants\n\n-Les
  écrans\n– Toutes les difficultés liées à la parentalité\n\nAu plai
 sir de vous rencontrer.
END:VEVENT
BEGIN:VTIMEZONE
TZID:Europe/Paris
X-LIC-LOCATION:Europe/Paris
BEGIN:STANDARD
DTSTART:20221030T020000
TZOFFSETFROM:+0200
TZOFFSETTO:+0100
TZNAME:CET
END:STANDARD
END:VTIMEZONE
END:VCALENDAR